BEGIN:VCALENDAR
METHOD:PUBLISH
VERSION:2.0
PRODID:-//WoltLab GmbH//WoltLab Suite Calendar 5.4//EN
CALSCALE:GREGORIAN
X-WR-CALNAME;VALUE=TEXT:Karnevalsfeier UST
BEGIN:VEVENT
TRANSP:TRANSPARENT
UID:event-1776@marsbruch.net
URL:https://marsbruch.net/kalender/event/3856-karnevalsfeier-ust/
DTSTART;VALUE=DATE:20250228
DTSTAMP:20250228T000000Z
CREATED:20250228T000000Z
SUMMARY:Karnevalsfeier UST
DTEND;VALUE=DATE:20250301
END:VEVENT
END:VCALENDAR
