BEGIN:VCALENDAR
METHOD:PUBLISH
VERSION:2.0
PRODID:-//WoltLab GmbH//WoltLab Suite Calendar 5.4//EN
CALSCALE:GREGORIAN
X-WR-CALNAME;VALUE=TEXT:Sommerferien NRW
BEGIN:VEVENT
TRANSP:TRANSPARENT
UID:event-1804@marsbruch.net
URL:https://marsbruch.net/kalender/event/3884-sommerferien-nrw/
DTSTART;VALUE=DATE:20250714
DTSTAMP:20250714T000000Z
CREATED:20250714T000000Z
SUMMARY:Sommerferien NRW
DTEND;VALUE=DATE:20250827
END:VEVENT
END:VCALENDAR
