BEGIN:VCALENDAR
METHOD:PUBLISH
VERSION:2.0
PRODID:-//WoltLab GmbH//WoltLab Suite Calendar 5.4//EN
CALSCALE:GREGORIAN
X-WR-CALNAME;VALUE=TEXT:Mobile Tierfarm
BEGIN:VEVENT
TRANSP:OPAQUE
UID:event-1819@marsbruch.net
URL:https://marsbruch.net/kalender/event/3899-mobile-tierfarm/
DTSTART:20251216T090000Z
DTSTAMP:20251216T090000Z
CREATED:20251216T090000Z
SUMMARY:Mobile Tierfarm
LOCATION:hinterer Teil vom Busparkplatz
DTEND:20251216T110000Z
END:VEVENT
END:VCALENDAR
