BEGIN:VCALENDAR
METHOD:PUBLISH
VERSION:2.0
PRODID:-//WoltLab GmbH//WoltLab Suite Calendar 5.4//EN
CALSCALE:GREGORIAN
X-WR-CALNAME;VALUE=TEXT:Wartungsarbeiten LOGINEO NRW Schulplattform
BEGIN:VEVENT
TRANSP:OPAQUE
UID:event-1847@marsbruch.net
URL:https://marsbruch.net/kalender/event/3928-wartungsarbeiten-logineo-nrw-
 schulplattform/
DTSTART:20241123T131500Z
DTSTAMP:20241123T131500Z
CREATED:20241123T131500Z
SUMMARY:Wartungsarbeiten LOGINEO NRW Schulplattform
DTEND:20241124T130000Z
END:VEVENT
END:VCALENDAR
