BEGIN:VCALENDAR
METHOD:PUBLISH
VERSION:2.0
PRODID:-//WoltLab GmbH//WoltLab Suite Calendar 5.4//EN
CALSCALE:GREGORIAN
X-WR-CALNAME;VALUE=TEXT:Zeugnisausgabe - Unterrichtsschluss 10:40Uhr
BEGIN:VEVENT
TRANSP:TRANSPARENT
UID:event-1882@marsbruch.net
URL:https://marsbruch.net/kalender/event/3963-zeugnisausgabe-unterrichtssch
 luss-10-40uhr/
DTSTART;VALUE=DATE:20250711
DTSTAMP:20250711T000000Z
CREATED:20250711T000000Z
SUMMARY:Zeugnisausgabe - Unterrichtsschluss 10:40Uhr
DTEND;VALUE=DATE:20250712
END:VEVENT
END:VCALENDAR
