BEGIN:VCALENDAR
METHOD:PUBLISH
VERSION:2.0
PRODID:-//WoltLab GmbH//WoltLab Suite Calendar 5.4//EN
CALSCALE:GREGORIAN
X-WR-CALNAME;VALUE=TEXT:Karnevalsfeier AST
BEGIN:VEVENT
TRANSP:OPAQUE
UID:event-1897@marsbruch.net
URL:https://marsbruch.net/kalender/event/3978-karnevalsfeier-ast/
DTSTART:20250228T091500Z
DTSTAMP:20250228T091500Z
CREATED:20250228T091500Z
SUMMARY:Karnevalsfeier AST
LOCATION:AST-Raum
DTEND:20250228T102500Z
END:VEVENT
END:VCALENDAR
