BEGIN:VCALENDAR
METHOD:PUBLISH
VERSION:2.0
PRODID:-//WoltLab GmbH//WoltLab Suite Calendar 5.4//EN
CALSCALE:GREGORIAN
X-WR-CALNAME;VALUE=TEXT:Abgabefrist für die Zeugnisse bei der Schulleitung
BEGIN:VEVENT
TRANSP:TRANSPARENT
UID:event-2022@marsbruch.net
URL:https://marsbruch.net/kalender/event/4103-abgabefrist-f%C3%BCr-die-zeug
 nisse-bei-der-schulleitung/
DTSTART;VALUE=DATE:20250704
DTSTAMP:20250704T000000Z
CREATED:20250704T000000Z
SUMMARY:Abgabefrist für die Zeugnisse bei der Schulleitung
DESCRIPTION:Ende der Abgabefrist für die Zeugnisse bei der Schulleitung
DTEND;VALUE=DATE:20250705
END:VEVENT
END:VCALENDAR
