BEGIN:VCALENDAR
METHOD:PUBLISH
VERSION:2.0
PRODID:-//WoltLab GmbH//WoltLab Suite Calendar 5.4//EN
CALSCALE:GREGORIAN
X-WR-CALNAME;VALUE=TEXT:Theaterstück \"Lille & Leo\"
BEGIN:VEVENT
TRANSP:OPAQUE
UID:event-2023@marsbruch.net
URL:https://marsbruch.net/kalender/event/4104-theaterst%C3%BCck-lille-leo/
DTSTART:20250623T081500Z
DTSTAMP:20250623T081500Z
CREATED:20250623T081500Z
SUMMARY:Theaterstück \"Lille & Leo\"
DESCRIPTION:Besuch der Theaterpädagogischen Werkstatt - Aufführung \"Lille 
 und Leo\"
LOCATION:LehrerInnen-Zimmer
DTEND:20250623T101500Z
RRULE:FREQ=WEEKLY;INTERVAL=1;BYDAY=MO;WKST=MO;UNTIL=20250630
END:VEVENT
END:VCALENDAR
