BEGIN:VCALENDAR
METHOD:PUBLISH
VERSION:2.0
PRODID:-//WoltLab GmbH//WoltLab Suite Calendar 5.4//EN
CALSCALE:GREGORIAN
X-WR-CALNAME;VALUE=TEXT:Adventsbasar
BEGIN:VEVENT
TRANSP:OPAQUE
UID:event-2046@marsbruch.net
URL:https://marsbruch.net/kalender/event/4128-adventsbasar/
DTSTART:20251127T090000Z
DTSTAMP:20251127T090000Z
CREATED:20251127T090000Z
SUMMARY:Adventsbasar
DTEND:20251127T110000Z
END:VEVENT
END:VCALENDAR
