BEGIN:VCALENDAR
METHOD:PUBLISH
VERSION:2.0
PRODID:-//WoltLab GmbH//WoltLab Suite Calendar 5.4//EN
CALSCALE:GREGORIAN
X-WR-CALNAME;VALUE=TEXT:St. Martinsfeier
BEGIN:VEVENT
TRANSP:OPAQUE
UID:event-2076@marsbruch.net
URL:https://marsbruch.net/kalender/event/4158-st-martinsfeier/
DTSTART:20251114T130000Z
DTSTAMP:20251114T130000Z
CREATED:20251114T130000Z
SUMMARY:St. Martinsfeier
DESCRIPTION:St. Martinsfeier und Umzug\n\nUnterrichtszeitverschiebung!\n\nU
 nterricht von 14-18 Uhr - Die Schulbusse fahren somit zu anderen Zeiten!
DTEND:20251114T170000Z
END:VEVENT
END:VCALENDAR
