BEGIN:VCALENDAR
METHOD:PUBLISH
VERSION:2.0
PRODID:-//WoltLab GmbH//WoltLab Suite Calendar 5.4//EN
CALSCALE:GREGORIAN
X-WR-CALNAME;VALUE=TEXT:Talkersprechstunde mit Marvin Breitling\, Fa. PRD
BEGIN:VEVENT
TRANSP:TRANSPARENT
UID:event-2079@marsbruch.net
URL:https://marsbruch.net/kalender/event/4161-talkersprechstunde-mit-marvin
 -breitling-fa-prd/
DTSTART;VALUE=DATE:20250923
DTSTAMP:20250923T000000Z
CREATED:20250923T000000Z
SUMMARY:Talkersprechstunde mit Marvin Breitling\, Fa. PRD
DESCRIPTION:Marvin Breitling kommt als Hilfsmittel-Berater der Fa. Prentke 
 Romich. Er bietet Beratung und Unterstützung bei der Beantragung von Kommun
 ikationshilfen an und macht die Schulungen zu den Hilfsmitteln für alle am 
 Kind beteiligten Personen. Bei Anliegen bitte an Ina Steinhaus vom UK-Team 
 wenden.
LOCATION:Besprechungsraum EG
DTEND;VALUE=DATE:20250924
END:VEVENT
END:VCALENDAR
