BEGIN:VCALENDAR
METHOD:PUBLISH
VERSION:2.0
PRODID:-//WoltLab GmbH//WoltLab Suite Calendar 5.4//EN
CALSCALE:GREGORIAN
X-WR-CALNAME;VALUE=TEXT:Info-Abend Berufliche Orientierung an der Schule am
  Marsbruch
BEGIN:VEVENT
TRANSP:OPAQUE
UID:event-2081@marsbruch.net
URL:https://marsbruch.net/kalender/event/4163-info-abend-berufliche-orienti
 erung-an-der-schule-am-marsbruch/
DTSTART:20250915T160000Z
DTSTAMP:20250915T160000Z
CREATED:20250915T160000Z
SUMMARY:Info-Abend Berufliche Orientierung an der Schule am Marsbruch
LOCATION:BT 3/0.35 Lehrer:innenzimmer
DTEND:20250915T170000Z
END:VEVENT
END:VCALENDAR
