BEGIN:VCALENDAR
METHOD:PUBLISH
VERSION:2.0
PRODID:-//WoltLab GmbH//WoltLab Suite Calendar 5.4//EN
CALSCALE:GREGORIAN
X-WR-CALNAME;VALUE=TEXT:Regierungsbezirk Sportfest  Rollstuhlbasketball 3x3
BEGIN:VEVENT
TRANSP:OPAQUE
UID:event-2090@marsbruch.net
URL:https://marsbruch.net/kalender/event/4178-regierungsbezirk-sportfest-ro
 llstuhlbasketball-3x3/
DTSTART:20260129T070000Z
DTSTAMP:20260129T070000Z
CREATED:20260129T070000Z
SUMMARY:Regierungsbezirk Sportfest  Rollstuhlbasketball 3x3
LOCATION:Dortmund
DTEND:20260129T190000Z
END:VEVENT
END:VCALENDAR
