BEGIN:VCALENDAR
METHOD:PUBLISH
VERSION:2.0
PRODID:-//WoltLab GmbH//WoltLab Suite Calendar 5.4//EN
CALSCALE:GREGORIAN
X-WR-CALNAME;VALUE=TEXT:Entlassfeier
BEGIN:VEVENT
TRANSP:OPAQUE
UID:event-2125@marsbruch.net
URL:https://marsbruch.net/kalender/event/4213-entlassfeier/
DTSTART:20260709T080000Z
DTSTAMP:20260709T080000Z
CREATED:20260709T080000Z
SUMMARY:Entlassfeier
LOCATION:Forum der Schule
DTEND:20260709T093000Z
END:VEVENT
END:VCALENDAR
