BEGIN:VCALENDAR
METHOD:PUBLISH
VERSION:2.0
PRODID:-//WoltLab GmbH//WoltLab Suite Calendar 5.4//EN
CALSCALE:GREGORIAN
X-WR-CALNAME;VALUE=TEXT:Jahreshauptversammlung des Fördervereins
BEGIN:VEVENT
TRANSP:OPAQUE
UID:event-2126@marsbruch.net
URL:https://marsbruch.net/kalender/event/4214-jahreshauptversammlung-des-f%
 C3%B6rdervereins/
DTSTART:20260202T170000Z
DTSTAMP:20260202T170000Z
CREATED:20260202T170000Z
SUMMARY:Jahreshauptversammlung des Fördervereins
DESCRIPTION:Jahreshauptversammlung der \"Freunde und Förderer der Schule am
  Marsbruch Dortmund e.V.\"
LOCATION:BT 3 / 0.35 Lehrer*innenzimmer
DTEND:20260202T183000Z
END:VEVENT
END:VCALENDAR
