BEGIN:VCALENDAR
METHOD:PUBLISH
VERSION:2.0
PRODID:-//WoltLab GmbH//WoltLab Suite Calendar 5.4//EN
CALSCALE:GREGORIAN
X-WR-CALNAME;VALUE=TEXT:AST-Konferenz
BEGIN:VEVENT
TRANSP:OPAQUE
UID:event-2137@marsbruch.net
URL:https://marsbruch.net/kalender/event/4225-ast-konferenz/
DTSTART:20251114T103000Z
DTSTAMP:20251114T103000Z
CREATED:20251114T103000Z
SUMMARY:AST-Konferenz
DESCRIPTION:EINLADUNG\n\nLiebe Kolleginnen und Kollegen\,\n\nhiermit laden 
 wir euch herzlich zur 3. Abschlussstufenkonferenz ein.\n\nWir freuen uns!\n
 \nSilke und Doro\n\nTAGESORDNUNG\n\n \nAktuelles\n \n\n1\nBegrüßung\, Geneh
 migung des Protokolls (R. Wiemer)\n5 Min.\n\n2\nAktuelles: passiert → notie
 rt\n\nRückmeldungen aus dem „Alltag“\nBegrüßung neuer Kolleg*innen\n...\n\n
 10 Min.\n\n \nTermine und Themen der Abschlussstufe\n \n\n3\nStuBo\n\nRückm
 eldungen:\n\nTag der offenen Tür Volmarstein\nInfoabend Betreuungsrecht\nBe
 rufsfelderkundung\nInfo und Absprachen:\n\nVorgehen Meldungen und Einverstä
 ndniserklärungen ESI und IFD\nRehaberatung\nStand: Praktika Werkstätten Inf
 o\n\n25 Min.\n\n4\nPlanung einer neuen AST-Klasse zum Halbjahr / neuen Schu
 ljahr\n30 Min.\n\n5\nTermine:\n\nSankt Martin 14.11.25\nAdventsbasar 27.11.
 25 – Praxistag am 26.11.25?\nMobile Tierfarm Mittwoch\, 17.12.25\nWeihnacht
 saktion: Weihnachtssingen der AST\n…\n\n10 Min.\n\n \nStufenunabhängige The
 men\n \n\n6\nBericht der Schulleitung\n15 Min.\n\n7\nVerschiedenes:\n\nPaus
 ensituation\nJahreshauptversammlung Förderverein 02.02.26 (Antrag Entlassfe
 ier)\nwdr-Dackl-Konzert am 10.2. um 11:15\n…\n\n10 Min.\n\nProtokoll:\n\n14
 .11.2025: Janina Wischnewski\n\n30.01.2026: Christine Ellmer
LOCATION:AST-Raum
DTEND:20251114T123000Z
END:VEVENT
END:VCALENDAR
