BEGIN:VCALENDAR
METHOD:PUBLISH
VERSION:2.0
PRODID:-//WoltLab GmbH//WoltLab Suite Calendar 5.4//EN
CALSCALE:GREGORIAN
X-WR-CALNAME;VALUE=TEXT:UPP Grünewald AST-b
BEGIN:VEVENT
TRANSP:OPAQUE
UID:event-2140@marsbruch.net
URL:https://marsbruch.net/kalender/event/4228-upp-gr%C3%BCnewald-ast-b/
DTSTART:20260202T093000Z
DTSTAMP:20260202T093000Z
CREATED:20260202T093000Z
SUMMARY:UPP Grünewald AST-b
DESCRIPTION:Ankommen Prüfungskommission gegen 10:30Uhr\nPrüfungsstunde: 5. 
 Std 11:45-12:30Uhr AST-B\nAnschließend Kolloquium in Diagnostikraum
DTEND:20260202T134500Z
END:VEVENT
END:VCALENDAR
