BEGIN:VCALENDAR
METHOD:PUBLISH
VERSION:2.0
PRODID:-//WoltLab GmbH//WoltLab Suite Calendar 5.4//EN
CALSCALE:GREGORIAN
X-WR-CALNAME;VALUE=TEXT:Unterrichtsbesuch Schlüter
BEGIN:VEVENT
TRANSP:OPAQUE
UID:event-2182@marsbruch.net
URL:https://marsbruch.net/kalender/event/4270-unterrichtsbesuch-schl%C3%BCt
 er/
DTSTART:20260127T090000Z
DTSTAMP:20260127T090000Z
CREATED:20260127T090000Z
SUMMARY:Unterrichtsbesuch Schlüter
DTEND:20260127T113000Z
END:VEVENT
END:VCALENDAR
