BEGIN:VCALENDAR
METHOD:PUBLISH
VERSION:2.0
PRODID:-//WoltLab GmbH//WoltLab Suite Calendar 5.4//EN
CALSCALE:GREGORIAN
X-WR-CALNAME;VALUE=TEXT:LOGINEO Wartungsarbeiten
BEGIN:VEVENT
TRANSP:OPAQUE
UID:event-2207@marsbruch.net
URL:https://marsbruch.net/kalender/event/4295-logineo-wartungsarbeiten/
DTSTART:20260314T130000Z
DTSTAMP:20260314T130000Z
CREATED:20260314T130000Z
SUMMARY:LOGINEO Wartungsarbeiten
DESCRIPTION:Wartungsarbeiten LOGINEO NRW: Samstag\, 14.03.2026 von 14.00 Uh
 r bis Montag\, 16.03.2026\, 06:00 Uhr
DTEND:20260316T050000Z
END:VEVENT
END:VCALENDAR
