BEGIN:VCALENDAR
METHOD:PUBLISH
VERSION:2.0
PRODID:-//WoltLab GmbH//WoltLab Suite Calendar 5.4//EN
CALSCALE:GREGORIAN
X-WR-CALNAME;VALUE=TEXT:LOGINEO Wartungsarbeiten
BEGIN:VEVENT
TRANSP:OPAQUE
UID:event-2209@marsbruch.net
URL:https://marsbruch.net/kalender/event/4297-logineo-wartungsarbeiten/
DTSTART:20260905T120000Z
DTSTAMP:20260905T120000Z
CREATED:20260905T120000Z
SUMMARY:LOGINEO Wartungsarbeiten
DESCRIPTION:Wartungsarbeiten LOGINEO NRW: Samstag\, 05.09.2026 von 14.00 Uh
 r bis Montag\, 07.09.2026\, 06:00 Uhr
DTEND:20260907T040000Z
END:VEVENT
END:VCALENDAR
