BEGIN:VCALENDAR
METHOD:PUBLISH
VERSION:2.0
PRODID:-//WoltLab GmbH//WoltLab Suite Calendar 5.4//EN
CALSCALE:GREGORIAN
X-WR-CALNAME;VALUE=TEXT:Zeugnisausgabe
BEGIN:VEVENT
TRANSP:TRANSPARENT
UID:event-306@marsbruch.net
URL:https://marsbruch.net/kalender/event/306-zeugnisausgabe/
DTSTART;VALUE=DATE:20190712
DTSTAMP:20190712T000000Z
CREATED:20190712T000000Z
SUMMARY:Zeugnisausgabe
DESCRIPTION:Zeugnisausgabe für alle Schülerinnen und Schüler
LOCATION:Schule am Marsbruch\, Marsbruchstraße 176\, 44287 Dortmund\, Deuts
 chland
GEO:51.5047112;7.5470676
DTEND;VALUE=DATE:20190713
END:VEVENT
END:VCALENDAR
