BEGIN:VCALENDAR
METHOD:PUBLISH
VERSION:2.0
PRODID:-//WoltLab GmbH//WoltLab Suite Calendar 5.4//EN
CALSCALE:GREGORIAN
X-WR-CALNAME;VALUE=TEXT:Verkürzter Schultag
BEGIN:VEVENT
TRANSP:OPAQUE
UID:event-307@marsbruch.net
URL:https://marsbruch.net/kalender/event/307-verk%C3%BCrzter-schultag/
DTSTART:20190712T061000Z
DTSTAMP:20190712T061000Z
CREATED:20190712T061000Z
SUMMARY:Verkürzter Schultag
DESCRIPTION:Schulschluss um 10:35 Uhr wegen Zeugnisausgabe (letzter Schulta
 g vor den Sommerferien)
LOCATION:Schule am Marsbruch\, Marsbruchstraße 176\, 44287 Dortmund\, Deuts
 chland
GEO:51.5047112;7.5470676
DTEND:20190712T083500Z
END:VEVENT
END:VCALENDAR
