BEGIN:VCALENDAR
METHOD:PUBLISH
VERSION:2.0
PRODID:-//WoltLab GmbH//WoltLab Suite Calendar 5.4//EN
CALSCALE:GREGORIAN
X-WR-CALNAME;VALUE=TEXT:Landessportfest E-Hockey
BEGIN:VEVENT
TRANSP:TRANSPARENT
UID:event-332@marsbruch.net
URL:https://marsbruch.net/kalender/event/332-landessportfest-e-hockey/
DTSTART;VALUE=DATE:20190328
DTSTAMP:20190328T000000Z
CREATED:20190328T000000Z
SUMMARY:Landessportfest E-Hockey
DESCRIPTION:Landessportfest E-Hockey in Bochum
LOCATION:Bochum\, Deutschland
GEO:51.4818459;7.2162361
DTEND;VALUE=DATE:20190329
END:VEVENT
END:VCALENDAR
