BEGIN:VCALENDAR
METHOD:PUBLISH
VERSION:2.0
PRODID:-//WoltLab GmbH//WoltLab Suite Calendar 5.4//EN
CALSCALE:GREGORIAN
X-WR-CALNAME;VALUE=TEXT:Landessportfest Riesenball
BEGIN:VEVENT
TRANSP:TRANSPARENT
UID:event-333@marsbruch.net
URL:https://marsbruch.net/kalender/event/333-landessportfest-riesenball/
DTSTART;VALUE=DATE:20190516
DTSTAMP:20190516T000000Z
CREATED:20190516T000000Z
SUMMARY:Landessportfest Riesenball
DESCRIPTION:Landessportfest Riesenball (Aktivrolli und E-Rolli) in Dortmund
LOCATION:Turnhalle\, Schule am Marsbruch\, Marsbruchstraße 176\, 44287 Dort
 mund\, Deutschland
GEO:51.5047112;7.5470676
DTEND;VALUE=DATE:20190517
END:VEVENT
END:VCALENDAR
