BEGIN:VCALENDAR
METHOD:PUBLISH
VERSION:2.0
PRODID:-//WoltLab GmbH//WoltLab Suite Calendar 5.4//EN
CALSCALE:GREGORIAN
X-WR-CALNAME;VALUE=TEXT:Landessportfest Schwimmen (Finale)
BEGIN:VEVENT
TRANSP:TRANSPARENT
UID:event-335@marsbruch.net
URL:https://marsbruch.net/kalender/event/335-landessportfest-schwimmen-fina
 le/
DTSTART;VALUE=DATE:20190514
DTSTAMP:20190514T000000Z
CREATED:20190514T000000Z
SUMMARY:Landessportfest Schwimmen (Finale)
DESCRIPTION:Finale des Landessportfests Schwimmen in Essen
LOCATION:Essen\, Deutschland
GEO:51.4556427;7.0115552
DTEND;VALUE=DATE:20190515
END:VEVENT
END:VCALENDAR
