BEGIN:VCALENDAR
METHOD:PUBLISH
VERSION:2.0
PRODID:-//WoltLab GmbH//WoltLab Suite Calendar 5.4//EN
CALSCALE:GREGORIAN
X-WR-CALNAME;VALUE=TEXT:Fachkonferenz Diagnostik
BEGIN:VEVENT
TRANSP:OPAQUE
UID:event-375@marsbruch.net
URL:https://marsbruch.net/kalender/event/375-fachkonferenz-diagnostik/
DTSTART:20190503T104500Z
DTSTAMP:20190503T104500Z
CREATED:20190503T104500Z
SUMMARY:Fachkonferenz Diagnostik
DESCRIPTION:Fachkonferenz Diagnostik im Diagnostikraum
DTEND:20190503T121500Z
END:VEVENT
END:VCALENDAR
