BEGIN:VCALENDAR
METHOD:PUBLISH
VERSION:2.0
PRODID:-//WoltLab GmbH//WoltLab Suite Calendar 5.4//EN
CALSCALE:GREGORIAN
X-WR-CALNAME;VALUE=TEXT:Fachkonferenz Musik
BEGIN:VEVENT
TRANSP:OPAQUE
UID:event-380@marsbruch.net
URL:https://marsbruch.net/kalender/event/380-fachkonferenz-musik/
DTSTART:20190521T133000Z
DTSTAMP:20190521T133000Z
CREATED:20190521T133000Z
SUMMARY:Fachkonferenz Musik
DESCRIPTION:Fachkonferenz Musik
LOCATION:Schule am Marsbruch\, Marsbruchstraße 176\, 44287 Dortmund\, Deuts
 chland
GEO:51.5047112;7.5470676
DTEND:20190521T150000Z
END:VEVENT
END:VCALENDAR
