BEGIN:VCALENDAR
METHOD:PUBLISH
VERSION:2.0
PRODID:-//WoltLab GmbH//WoltLab Suite Calendar 5.4//EN
CALSCALE:GREGORIAN
X-WR-CALNAME;VALUE=TEXT:FK Medien und Digitales
BEGIN:VEVENT
TRANSP:OPAQUE
UID:event-385@marsbruch.net
URL:https://marsbruch.net/kalender/event/385-fk-medien-und-digitales/
DTSTART:20190613T131500Z
DTSTAMP:20190613T131500Z
CREATED:20190613T131500Z
SUMMARY:FK Medien und Digitales
LOCATION:Medienraum\, Schule am Marsbruch\, Marsbruchstraße 176\, 44287 Dor
 tmund\, Deutschland
GEO:51.5047112;7.5470676
DTEND:20190613T150000Z
END:VEVENT
END:VCALENDAR
