BEGIN:VCALENDAR
METHOD:PUBLISH
VERSION:2.0
PRODID:-//WoltLab GmbH//WoltLab Suite Calendar 5.4//EN
CALSCALE:GREGORIAN
X-WR-CALNAME;VALUE=TEXT:Workshops + Aufführung von Nemo
BEGIN:VEVENT
TRANSP:OPAQUE
UID:event-386@marsbruch.net
URL:https://marsbruch.net/kalender/event/386-workshops-auff%C3%BChrung-von-
 nemo/
DTSTART:20190625T080000Z
DTSTAMP:20190625T080000Z
CREATED:20190625T080000Z
SUMMARY:Workshops + Aufführung von Nemo
DESCRIPTION:Workshops: 3. + 4. Stunde\n\nAufführung: kleine Pause in der Pa
 usenhalle
LOCATION:Schule am Marsbruch\, Marsbruchstraße 176\, 44287 Dortmund\, Deuts
 chland
GEO:51.5047112;7.5470676
DTEND:20190625T100000Z
END:VEVENT
END:VCALENDAR
