BEGIN:VCALENDAR
METHOD:PUBLISH
VERSION:2.0
PRODID:-//WoltLab GmbH//WoltLab Suite Calendar 5.4//EN
CALSCALE:GREGORIAN
X-WR-CALNAME;VALUE=TEXT:Präsentation Inklusives Internet
BEGIN:VEVENT
TRANSP:OPAQUE
UID:event-387@marsbruch.net
URL:https://marsbruch.net/kalender/event/387-pr%C3%A4sentation-inklusives-i
 nternet/
DTSTART:20190625T120000Z
DTSTAMP:20190625T120000Z
CREATED:20190625T120000Z
SUMMARY:Präsentation Inklusives Internet
DESCRIPTION:Geschlossene Veranstaltung des LWL zur Präsentation der beiden 
 Schul-Modellauftritte des Inklusiven Internets
LOCATION:Kleines Lehrerzimmer\, Schule am Marsbruch\, Marsbruchstraße 176\,
  44287 Dortmund\, Deutschland
GEO:51.5047112;7.5470676
DTEND:20190625T150000Z
END:VEVENT
END:VCALENDAR
