BEGIN:VCALENDAR
METHOD:PUBLISH
VERSION:2.0
PRODID:-//WoltLab GmbH//WoltLab Suite Calendar 5.4//EN
CALSCALE:GREGORIAN
X-WR-CALNAME;VALUE=TEXT:Medientag 2020
BEGIN:VEVENT
TRANSP:TRANSPARENT
UID:event-389@marsbruch.net
URL:https://marsbruch.net/kalender/event/389-medientag-2020/
DTSTART;VALUE=DATE:20200121
DTSTAMP:20200121T000000Z
CREATED:20200121T000000Z
SUMMARY:Medientag 2020
DESCRIPTION:Medientag 2020 an der Schule am Marsbruch (in Kooperation mit d
 er TU Dortmund)
LOCATION:Schule am Marsbruch\, Marsbruchstraße 176\, 44287 Dortmund\, Deuts
 chland
GEO:51.5047112;7.5470676
DTEND;VALUE=DATE:20200122
END:VEVENT
END:VCALENDAR
