BEGIN:VCALENDAR
METHOD:PUBLISH
VERSION:2.0
PRODID:-//WoltLab GmbH//WoltLab Suite Calendar 5.4//EN
CALSCALE:GREGORIAN
X-WR-CALNAME;VALUE=TEXT:AK Pflege
BEGIN:VEVENT
TRANSP:OPAQUE
UID:event-439@marsbruch.net
URL:https://marsbruch.net/kalender/event/439-ak-pflege/
DTSTART:20190920T104500Z
DTSTAMP:20190920T104500Z
CREATED:20190920T104500Z
SUMMARY:AK Pflege
DESCRIPTION:AK Pflege
LOCATION:Schule am Marsbruch\, Marsbruchstraße 176\, 44287 Dortmund\, Deuts
 chland
GEO:51.5047112;7.5470676
DTEND:20190920T114500Z
END:VEVENT
END:VCALENDAR
