BEGIN:VCALENDAR
METHOD:PUBLISH
VERSION:2.0
PRODID:-//WoltLab GmbH//WoltLab Suite Calendar 5.4//EN
CALSCALE:GREGORIAN
X-WR-CALNAME;VALUE=TEXT:Zeugnisausgabe (L + HS)
BEGIN:VEVENT
TRANSP:TRANSPARENT
UID:event-451@marsbruch.net
URL:https://marsbruch.net/kalender/event/451-zeugnisausgabe-l-hs/
DTSTART;VALUE=DATE:20200131
DTSTAMP:20200131T000000Z
CREATED:20200131T000000Z
SUMMARY:Zeugnisausgabe (L + HS)
DESCRIPTION:Zeugnisausgabe im Bildungsgang Lernen und Hauptschule
LOCATION:Schule am Marsbruch\, Marsbruchstraße 176\, 44287 Dortmund\, Deuts
 chland
GEO:51.5047112;7.5470676
DTEND;VALUE=DATE:20200201
END:VEVENT
END:VCALENDAR
