BEGIN:VCALENDAR
METHOD:PUBLISH
VERSION:2.0
PRODID:-//WoltLab GmbH//WoltLab Suite Calendar 5.4//EN
CALSCALE:GREGORIAN
X-WR-CALNAME;VALUE=TEXT:Verkürzter Schultag
BEGIN:VEVENT
TRANSP:OPAQUE
UID:event-453@marsbruch.net
URL:https://marsbruch.net/kalender/event/453-verk%C3%BCrzter-schultag/
DTSTART:20200312T071000Z
DTSTAMP:20200312T071000Z
CREATED:20200312T071000Z
SUMMARY:Verkürzter Schultag
DESCRIPTION:Verkürzter Schultag wegen Elternsprechtag
LOCATION:Schule am Marsbruch\, Marsbruchstraße 176\, 44287 Dortmund\, Deuts
 chland
GEO:51.5047112;7.5470676
DTEND:20200312T113000Z
END:VEVENT
END:VCALENDAR
