BEGIN:VCALENDAR
METHOD:PUBLISH
VERSION:2.0
PRODID:-//WoltLab GmbH//WoltLab Suite Calendar 5.4//EN
CALSCALE:GREGORIAN
X-WR-CALNAME;VALUE=TEXT:Landessportfest Rolli-Basketball
BEGIN:VEVENT
TRANSP:TRANSPARENT
UID:event-465@marsbruch.net
URL:https://marsbruch.net/kalender/event/465-landessportfest-rolli-basketba
 ll/
DTSTART;VALUE=DATE:20191118
DTSTAMP:20191118T000000Z
CREATED:20191118T000000Z
SUMMARY:Landessportfest Rolli-Basketball
DESCRIPTION:Landessportfest Rolli-Basketball
LOCATION:Turnhalle\, Schule am Marsbruch\, Marsbruchstraße 176\, 44287 Dort
 mund\, Deutschland
GEO:51.5047112;7.5470676
DTEND;VALUE=DATE:20191119
END:VEVENT
END:VCALENDAR
