BEGIN:VCALENDAR
METHOD:PUBLISH
VERSION:2.0
PRODID:-//WoltLab GmbH//WoltLab Suite Calendar 5.4//EN
CALSCALE:GREGORIAN
X-WR-CALNAME;VALUE=TEXT:Landessportfest Schwimmen
BEGIN:VEVENT
TRANSP:TRANSPARENT
UID:event-468@marsbruch.net
URL:https://marsbruch.net/kalender/event/468-landessportfest-schwimmen/
DTSTART;VALUE=DATE:20200217
DTSTAMP:20200217T000000Z
CREATED:20200217T000000Z
SUMMARY:Landessportfest Schwimmen
DESCRIPTION:Landessportfest Schwimmen
LOCATION:57462 Olpe\, Deutschland
GEO:51.0282097;7.8502941
DTEND;VALUE=DATE:20200218
END:VEVENT
END:VCALENDAR
