BEGIN:VCALENDAR
METHOD:PUBLISH
VERSION:2.0
PRODID:-//WoltLab GmbH//WoltLab Suite Calendar 5.4//EN
CALSCALE:GREGORIAN
X-WR-CALNAME;VALUE=TEXT:Westfalenparklauf
BEGIN:VEVENT
TRANSP:OPAQUE
UID:event-480@marsbruch.net
URL:https://marsbruch.net/kalender/event/480-westfalenparklauf/
DTSTART:20191103T110000Z
DTSTAMP:20191103T110000Z
CREATED:20191103T110000Z
SUMMARY:Westfalenparklauf
DESCRIPTION:Westfalenparklauf Dortmund
LOCATION:Westfalenpark Dortmund\, An der Buschmühle 3\, 44139 Dortmund\, De
 utschland
GEO:51.4950485;7.4771194
DTEND:20191103T140000Z
END:VEVENT
END:VCALENDAR
