BEGIN:VCALENDAR
METHOD:PUBLISH
VERSION:2.0
PRODID:-//WoltLab GmbH//WoltLab Suite Calendar 5.4//EN
CALSCALE:GREGORIAN
X-WR-CALNAME;VALUE=TEXT:Aufstiegsfeier der Mittelstufe
BEGIN:VEVENT
TRANSP:OPAQUE
UID:event-486@marsbruch.net
URL:https://marsbruch.net/kalender/event/486-aufstiegsfeier-der-mittelstufe
 /
DTSTART:20191028T091500Z
DTSTAMP:20191028T091500Z
CREATED:20191028T091500Z
SUMMARY:Aufstiegsfeier der Mittelstufe
LOCATION:Schule am Marsbruch\, Marsbruchstraße 176\, 44287 Dortmund\, Deuts
 chland
GEO:51.5036621;7.5450902
DTEND:20191028T102500Z
END:VEVENT
END:VCALENDAR
