BEGIN:VCALENDAR
METHOD:PUBLISH
VERSION:2.0
PRODID:-//WoltLab GmbH//WoltLab Suite Calendar 5.4//EN
CALSCALE:GREGORIAN
X-WR-CALNAME;VALUE=TEXT:UST-Themenwoche \"Indianer\"
BEGIN:VEVENT
TRANSP:TRANSPARENT
UID:event-509@marsbruch.net
URL:https://marsbruch.net/kalender/event/509-ust-themenwoche-indianer/
DTSTART;VALUE=DATE:20200217
DTSTAMP:20200217T000000Z
CREATED:20200217T000000Z
SUMMARY:UST-Themenwoche \"Indianer\"
DESCRIPTION:Themenwoche der Unterstufe  \"Indianer\" (Karneval)
DTEND;VALUE=DATE:20200222
END:VEVENT
END:VCALENDAR
