BEGIN:VCALENDAR
METHOD:PUBLISH
VERSION:2.0
PRODID:-//WoltLab GmbH//WoltLab Suite Calendar 5.4//EN
CALSCALE:GREGORIAN
X-WR-CALNAME;VALUE=TEXT:Brandschau
BEGIN:VEVENT
TRANSP:OPAQUE
UID:event-515@marsbruch.net
URL:https://marsbruch.net/kalender/event/515-brandschau/
DTSTART:20191217T080000Z
DTSTAMP:20191217T080000Z
CREATED:20191217T080000Z
SUMMARY:Brandschau
DESCRIPTION:Brandschau der Feuerwehr Dortmund
LOCATION:Schule am Marsbruch\, Marsbruchstraße 176\, 44287 Dortmund\, Deuts
 chland
GEO:51.5047112;7.5470676
DTEND:20191217T100000Z
END:VEVENT
END:VCALENDAR
