BEGIN:VCALENDAR
METHOD:PUBLISH
VERSION:2.0
PRODID:-//WoltLab GmbH//WoltLab Suite Calendar 5.4//EN
CALSCALE:GREGORIAN
X-WR-CALNAME;VALUE=TEXT:Schulfrei
BEGIN:VEVENT
TRANSP:TRANSPARENT
UID:event-581@marsbruch.net
URL:https://marsbruch.net/kalender/event/584-schulfrei/
DTSTART;VALUE=DATE:20200318
DTSTAMP:20200318T000000Z
CREATED:20200318T000000Z
SUMMARY:Schulfrei
DESCRIPTION:Der Schulbetrieb an der Schule am Marsbruch wird ab Mittwoch\, 
 18.03.2020\, eingestellt. Es findet dann bis zu den Osterferien kein Unterr
 icht mehr statt.
DTEND;VALUE=DATE:20200404
END:VEVENT
END:VCALENDAR
