BEGIN:VCALENDAR
METHOD:PUBLISH
VERSION:2.0
PRODID:-//WoltLab GmbH//WoltLab Suite Calendar 5.4//EN
CALSCALE:GREGORIAN
X-WR-CALNAME;VALUE=TEXT:Wartungsarbeiten IServ
BEGIN:VEVENT
TRANSP:TRANSPARENT
UID:event-625@marsbruch.net
URL:https://marsbruch.net/kalender/event/631-wartungsarbeiten-iserv/
DTSTART;VALUE=DATE:20200713
DTSTAMP:20200713T000000Z
CREATED:20200713T000000Z
SUMMARY:Wartungsarbeiten IServ
DESCRIPTION:Die LWL.IT führt Wartungsarbeiten bei IServ durch. Es kann zu k
 urzfristigen Ausfällen kommen.
DTEND;VALUE=DATE:20200718
END:VEVENT
END:VCALENDAR
