BEGIN:VCALENDAR
METHOD:PUBLISH
VERSION:2.0
PRODID:-//WoltLab GmbH//WoltLab Suite Calendar 5.4//EN
CALSCALE:GREGORIAN
X-WR-CALNAME;VALUE=TEXT:Vorlage Bildungspläne\, Förderpläne\, Klassenbücher
BEGIN:VEVENT
TRANSP:TRANSPARENT
UID:event-638@marsbruch.net
URL:https://marsbruch.net/kalender/event/644-vorlage-bildungspl%C3%A4ne-f%C
 3%B6rderpl%C3%A4ne-klassenb%C3%BCcher/
DTSTART;VALUE=DATE:20201030
DTSTAMP:20201030T000000Z
CREATED:20201030T000000Z
SUMMARY:Vorlage Bildungspläne\, Förderpläne\, Klassenbücher
DTEND;VALUE=DATE:20201031
END:VEVENT
END:VCALENDAR
