BEGIN:VCALENDAR
METHOD:PUBLISH
VERSION:2.0
PRODID:-//WoltLab GmbH//WoltLab Suite Calendar 5.4//EN
CALSCALE:GREGORIAN
X-WR-CALNAME;VALUE=TEXT:3. Stufenkonferenzen
BEGIN:VEVENT
TRANSP:OPAQUE
UID:event-643@marsbruch.net
URL:https://marsbruch.net/kalender/event/649-3-stufenkonferenzen/
DTSTART:20210122T114500Z
DTSTAMP:20210122T114500Z
CREATED:20210122T114500Z
SUMMARY:3. Stufenkonferenzen
DTEND:20210122T130000Z
END:VEVENT
END:VCALENDAR
