BEGIN:VCALENDAR
METHOD:PUBLISH
VERSION:2.0
PRODID:-//WoltLab GmbH//WoltLab Suite Calendar 5.4//EN
CALSCALE:GREGORIAN
X-WR-CALNAME;VALUE=TEXT:Schulkonferenz
BEGIN:VEVENT
TRANSP:OPAQUE
UID:event-672@marsbruch.net
URL:https://marsbruch.net/kalender/event/678-schulkonferenz/
DTSTART:20210517T170000Z
DTSTAMP:20210517T170000Z
CREATED:20210517T170000Z
SUMMARY:Schulkonferenz
LOCATION:Videokonferenz
DTEND:20210517T190000Z
END:VEVENT
END:VCALENDAR
