BEGIN:VCALENDAR
METHOD:PUBLISH
VERSION:2.0
PRODID:-//WoltLab GmbH//WoltLab Suite Calendar 5.4//EN
CALSCALE:GREGORIAN
X-WR-CALNAME;VALUE=TEXT:Wartungsarbeiten IServ
BEGIN:VEVENT
TRANSP:TRANSPARENT
UID:event-714@marsbruch.net
URL:https://marsbruch.net/kalender/event/724-wartungsarbeiten-iserv/
DTSTART;VALUE=DATE:20201013
DTSTAMP:20201013T000000Z
CREATED:20201013T000000Z
SUMMARY:Wartungsarbeiten IServ
DESCRIPTION:IServ wird vsl. nur erschwert erreichbar sein.
DTEND;VALUE=DATE:20201014
END:VEVENT
END:VCALENDAR
