BEGIN:VCALENDAR
METHOD:PUBLISH
VERSION:2.0
PRODID:-//WoltLab GmbH//WoltLab Suite Calendar 5.4//EN
CALSCALE:GREGORIAN
X-WR-CALNAME;VALUE=TEXT:Schulfrei
BEGIN:VEVENT
TRANSP:TRANSPARENT
UID:event-731@marsbruch.net
URL:https://marsbruch.net/kalender/event/743-schulfrei/
DTSTART;VALUE=DATE:20201211
DTSTAMP:20201211T000000Z
CREATED:20201211T000000Z
SUMMARY:Schulfrei
DESCRIPTION:(wegen Fortbildungstag)
DTEND;VALUE=DATE:20201212
END:VEVENT
END:VCALENDAR
