BEGIN:VCALENDAR
METHOD:PUBLISH
VERSION:2.0
PRODID:-//WoltLab GmbH//WoltLab Suite Calendar 5.4//EN
CALSCALE:GREGORIAN
X-WR-CALNAME;VALUE=TEXT:Beweglicher Ferientag
BEGIN:VEVENT
TRANSP:TRANSPARENT
UID:event-791@marsbruch.net
URL:https://marsbruch.net/kalender/event/859-beweglicher-ferientag/
DTSTART;VALUE=DATE:20210604
DTSTAMP:20210604T000000Z
CREATED:20210604T000000Z
SUMMARY:Beweglicher Ferientag
DTEND;VALUE=DATE:20210605
END:VEVENT
END:VCALENDAR
