BEGIN:VCALENDAR
METHOD:PUBLISH
VERSION:2.0
PRODID:-//WoltLab GmbH//WoltLab Suite Calendar 5.4//EN
CALSCALE:GREGORIAN
X-WR-CALNAME;VALUE=TEXT:Videokonferenzen optimaler gestalten
BEGIN:VEVENT
TRANSP:OPAQUE
UID:event-801@marsbruch.net
URL:https://marsbruch.net/kalender/event/874-videokonferenzen-optimaler-ges
 talten/
DTSTART:20210308T120000Z
DTSTAMP:20210308T120000Z
CREATED:20210308T120000Z
SUMMARY:Videokonferenzen optimaler gestalten
DESCRIPTION:Erfahrungs- und Ideenaustausch\, \num Videokonferenzen optimale
 r zu gestalten:\nPräsentationen hochladen\; Dokumente teilen usw.  \nGerne 
 schickt mir eure Anregungen und Fragen gern vorher zu.\n\nUm einen Überblic
 k zu haben\, wer teilnimmt\, wäre eine Teilnahmebestätigung super\, sie ist
  aber nicht Voraussetzung.
LOCATION:Viko-Raum: Distanzlernen Austausch Kollegium
DTEND:20210308T130000Z
END:VEVENT
END:VCALENDAR
