BEGIN:VCALENDAR
METHOD:PUBLISH
VERSION:2.0
PRODID:-//WoltLab GmbH//WoltLab Suite Calendar 5.4//EN
CALSCALE:GREGORIAN
X-WR-CALNAME;VALUE=TEXT:Spielefest
BEGIN:VEVENT
TRANSP:OPAQUE
UID:event-859@marsbruch.net
URL:https://marsbruch.net/kalender/event/932-spielefest/
DTSTART:20210528T073000Z
DTSTAMP:20210528T073000Z
CREATED:20210528T073000Z
SUMMARY:Spielefest
DESCRIPTION:Spielangebote auf dem Schulhof für die Mittelstufe
LOCATION:Schulhof
DTEND:20210528T093000Z
END:VEVENT
END:VCALENDAR
